BEGIN:VCALENDAR
VERSION:2.0
PRODID:-//Parent Aid - ECPv6.15.20//NONSGML v1.0//EN
CALSCALE:GREGORIAN
METHOD:PUBLISH
X-WR-CALNAME:Parent Aid
X-ORIGINAL-URL:https://parentaid.org
X-WR-CALDESC:Events for Parent Aid
REFRESH-INTERVAL;VALUE=DURATION:PT1H
X-Robots-Tag:noindex
X-PUBLISHED-TTL:PT1H
BEGIN:VTIMEZONE
TZID:America/Phoenix
BEGIN:STANDARD
TZOFFSETFROM:-0700
TZOFFSETTO:-0700
TZNAME:MST
DTSTART:20250101T000000
END:STANDARD
END:VTIMEZONE
BEGIN:VEVENT
DTSTART;TZID=America/Phoenix:20260422T103000
DTEND;TZID=America/Phoenix:20260422T113000
DTSTAMP:20260422T015615
CREATED:20251113T212447Z
LAST-MODIFIED:20251113T212447Z
UID:10003719-1776853800-1776857400@parentaid.org
SUMMARY:Soothing Strokes Baby Massage
DESCRIPTION:An infant massage class based on ancient traditions teaches gentle\, rhythmic techniques passed down through generations to promote bonding\, relaxation\, and healthy development for babies. Soothing Strokes is 5 weekly 90-minute sessions. We cover something different each class ending in the culmination being able to do a thorough infant massage. \nInfant massage is focused on children birth to 12 months. \nChild care for your older children can be provided as necessary with notice. \nYou bring your baby and we will bring the oil and the relaxed vibes. See you
URL:https://parentaid.org/event/soothing-strokes-baby-massage-19/
LOCATION:Family Resource Center at Sahuarita Food Bank\, 17750 S. La Canada\, Sahuarita\, 85629\, United States
CATEGORIES:A1 - Parent Class,Spotlighted Events
ATTACH;FMTTYPE=image/png:https://parentaid.org/wp-content/uploads/2025/04/Soothing-Strokes-at-SFB.png
ORGANIZER;CN="Amanda":MAILTO:amanda@parentaid.org
END:VEVENT
BEGIN:VEVENT
DTSTART;TZID=America/Phoenix:20260422T103000
DTEND;TZID=America/Phoenix:20260422T120000
DTSTAMP:20260422T015615
CREATED:20260122T165118Z
LAST-MODIFIED:20260123T182157Z
UID:10004481-1776853800-1776859200@parentaid.org
SUMMARY:First Five Years - Active Parenting Class 1 of 4
DESCRIPTION:Join Rebecca and Parent Aid for a 4-session parent workshop series designed for caregivers with children under 5 years old. This series will help parents understand more about their child’s growth and development\, teach skills to better communicate\, set groundwork for positive discipline\, and practice some much needed self-care. \nClass is offered virtually through Zoom. Classes will be held on Wednesdays for 4 weeks. \nRegistration is FREE!!! \nEmail Rebecca with any questions you may have. \nWe look forward to having your at our next workshop!
URL:https://parentaid.org/event/first-five-years-active-parenting-class-1-of-4-28/
LOCATION:Parent Aid Hybrid with Rebecca\, 2580 E 22nd St\, Tucson\, AZ\, 85713\, United States
CATEGORIES:A1 - Parent Class,Family Resource Center,Spotlighted Events
ATTACH;FMTTYPE=image/png:https://parentaid.org/wp-content/uploads/2025/02/Class-Banner.png
ORGANIZER;CN="Rebecca":MAILTO:Rebecca@parentaid.org
END:VEVENT
END:VCALENDAR