BEGIN:VCALENDAR
VERSION:2.0
PRODID:-//Parent Aid - ECPv6.15.20//NONSGML v1.0//EN
CALSCALE:GREGORIAN
METHOD:PUBLISH
X-WR-CALNAME:Parent Aid
X-ORIGINAL-URL:https://parentaid.org
X-WR-CALDESC:Events for Parent Aid
REFRESH-INTERVAL;VALUE=DURATION:PT1H
X-Robots-Tag:noindex
X-PUBLISHED-TTL:PT1H
BEGIN:VTIMEZONE
TZID:America/Phoenix
BEGIN:STANDARD
TZOFFSETFROM:-0700
TZOFFSETTO:-0700
TZNAME:MST
DTSTART:20250101T000000
END:STANDARD
END:VTIMEZONE
BEGIN:VEVENT
DTSTART;TZID=America/Phoenix:20260211T103000
DTEND;TZID=America/Phoenix:20260211T120000
DTSTAMP:20260419T080257
CREATED:20251118T185308Z
LAST-MODIFIED:20260129T202226Z
UID:10003871-1770805800-1770811200@parentaid.org
SUMMARY:First Five Years - Active Parenting Class 1 of 4
DESCRIPTION:Join Rebecca and Parent Aid for a 4-session parent workshop series designed for caregivers with children under 5 years old. This series will help parents understand more about their child’s growth and development\, teach skills to better communicate\, set groundwork for positive discipline\, and practice some much needed self-care. \nClass is offered in person at the Robles Family Resource Center. Classes will be held on Wednesdays for 4 weeks. \nRegistration is FREE!!! \nEmail Rebecca with any questions you may have. \nWe look forward to having your at our next workshop!
URL:https://parentaid.org/event/first-five-years-active-parenting-class-1-of-4-7/2026-02-11/
LOCATION:Parent Aid Hybrid with Rebecca\, 2580 E 22nd St\, Tucson\, AZ\, 85713\, United States
ATTACH;FMTTYPE=image/png:https://parentaid.org/wp-content/uploads/2025/02/Class-Banner.png
ORGANIZER;CN="Rebecca":MAILTO:Rebecca@parentaid.org
END:VEVENT
END:VCALENDAR