BEGIN:VCALENDAR
VERSION:2.0
PRODID:-//Parent Aid - ECPv6.15.20//NONSGML v1.0//EN
CALSCALE:GREGORIAN
METHOD:PUBLISH
X-WR-CALNAME:Parent Aid
X-ORIGINAL-URL:https://parentaid.org
X-WR-CALDESC:Events for Parent Aid
REFRESH-INTERVAL;VALUE=DURATION:PT1H
X-Robots-Tag:noindex
X-PUBLISHED-TTL:PT1H
BEGIN:VTIMEZONE
TZID:America/Phoenix
BEGIN:STANDARD
TZOFFSETFROM:-0700
TZOFFSETTO:-0700
TZNAME:MST
DTSTART:20250101T000000
END:STANDARD
END:VTIMEZONE
BEGIN:VEVENT
DTSTART;TZID=America/Phoenix:20261114T090000
DTEND;TZID=America/Phoenix:20261114T120000
DTSTAMP:20260419T153133
CREATED:20251121T183347Z
LAST-MODIFIED:20260130T175032Z
UID:21707-1794646800-1794657600@parentaid.org
SUMMARY:Boot Camp for New Moms
DESCRIPTION:Join Rebecca for Parent Aid’s next Boot Camp for New Moms! \nBoot Camp is designed for expecting first-time Mothers to gain the skills and confidence he needs to be an involved and active caregiver to his newborn. \nRegistration is FREE and all participants receive a gift! \nClass is offered in-person at a location TBD. \nEmail Rebecca with any questions you may have about the event. \nWe look forward to seeing you!
URL:https://parentaid.org/event/boot-camp-for-new-moms-6/
LOCATION:The Learning Experience\, 8693 N Silverbell Rd\, Tucson\, AZ\, 85743\, United States
CATEGORIES:A1 - Parent Class,Spotlighted Events
ATTACH;FMTTYPE=image/jpeg:https://parentaid.org/wp-content/uploads/Boot-Camp-for-Moms-and-Dads-2026-e1769795364493.jpg
ORGANIZER;CN="Rebecca":MAILTO:Rebecca@parentaid.org
END:VEVENT
END:VCALENDAR