BEGIN:VCALENDAR
VERSION:2.0
PRODID:-//Parent Aid - ECPv6.15.20//NONSGML v1.0//EN
CALSCALE:GREGORIAN
METHOD:PUBLISH
X-WR-CALNAME:Parent Aid
X-ORIGINAL-URL:https://parentaid.org
X-WR-CALDESC:Events for Parent Aid
REFRESH-INTERVAL;VALUE=DURATION:PT1H
X-Robots-Tag:noindex
X-PUBLISHED-TTL:PT1H
BEGIN:VTIMEZONE
TZID:America/Phoenix
BEGIN:STANDARD
TZOFFSETFROM:-0700
TZOFFSETTO:-0700
TZNAME:MST
DTSTART:20250101T000000
END:STANDARD
END:VTIMEZONE
BEGIN:VEVENT
DTSTART;TZID=America/Phoenix:20260129T180000
DTEND;TZID=America/Phoenix:20260129T193000
DTSTAMP:20260422T053833
CREATED:20251118T195659Z
LAST-MODIFIED:20251118T195659Z
UID:21517-1769709600-1769715000@parentaid.org
SUMMARY:Bonding Beats
DESCRIPTION:Join Noah for this 1-hour drumming workshop to get your family in sync. We all know the teens years can bring tons of communication blocks\, so let’s break those down and find our new rhythm and tempo as a family. No percussion or musical skill or experience required. \nRegistration is free and is for 1 parent and 1 middle/high school aged child. Space is limited so register today! \nEmail Noah with any questions you may have. \nWe look forward to seeing you there.
URL:https://parentaid.org/event/bonding-beats-5/
LOCATION:Parent Aid\, 2580 E 22nd St\, Tucson\, AZ\, 85713\, United States
CATEGORIES:A1 - Parent Class,Spotlighted Events
ATTACH;FMTTYPE=image/png:https://parentaid.org/wp-content/uploads/Bonding-Beats.png
ORGANIZER;CN="Noah":MAILTO:noah@parentaid.org
END:VEVENT
END:VCALENDAR