BEGIN:VCALENDAR
VERSION:2.0
PRODID:-//Parent Aid - ECPv6.15.20//NONSGML v1.0//EN
CALSCALE:GREGORIAN
METHOD:PUBLISH
X-WR-CALNAME:Parent Aid
X-ORIGINAL-URL:https://parentaid.org
X-WR-CALDESC:Events for Parent Aid
REFRESH-INTERVAL;VALUE=DURATION:PT1H
X-Robots-Tag:noindex
X-PUBLISHED-TTL:PT1H
BEGIN:VTIMEZONE
TZID:America/Phoenix
BEGIN:STANDARD
TZOFFSETFROM:-0700
TZOFFSETTO:-0700
TZNAME:MST
DTSTART:20240101T000000
END:STANDARD
END:VTIMEZONE
BEGIN:VEVENT
DTSTART;TZID=America/Phoenix:20251023T173000
DTEND;TZID=America/Phoenix:20251023T193000
DTSTAMP:20260419T123828
CREATED:20250815T194033Z
LAST-MODIFIED:20250910T233334Z
UID:20999-1761240600-1761247800@parentaid.org
SUMMARY:Active Parenting of Teens - Parenting Class 1 of 6
DESCRIPTION:Join Rebecca for a 6-session parent workshop series designed for caregivers with teens and pre-teens. This series will help parents understand how to approach conversations on difficult topics\, teach skills to better communicate\, set groundwork for positive discipline and practice some much needed self-care.  \nClass is offered virtually through Zoom. \nThis amazing opportunity to keep your parent game strong is only $50 for the entire 6-session series. \nEmail Rebecca with any questions you may have. \nWe look forward to having you at our next workshop!
URL:https://parentaid.org/event/active-parenting-of-teens-parenting-class-1-of-6-3/
LOCATION:Parent Aid Hybrid with Rebecca\, 2580 E 22nd St\, Tucson\, AZ\, 85713\, United States
CATEGORIES:A1 - Parent Class,Spotlighted Events
ATTACH;FMTTYPE=image/png:https://parentaid.org/wp-content/uploads/Active-Parenting-of-Teens-Class-1-of-6-Class-Banner.png
ORGANIZER;CN="Rebecca":MAILTO:Rebecca@parentaid.org
END:VEVENT
END:VCALENDAR